BEGIN:VCALENDAR
VERSION:2.0
PRODID:-//The Pocket Project - ECPv6.3.7//NONSGML v1.0//EN
CALSCALE:GREGORIAN
METHOD:PUBLISH
X-WR-CALNAME:The Pocket Project
X-ORIGINAL-URL:https://pocketproject.org
X-WR-CALDESC:Events for The Pocket Project
REFRESH-INTERVAL;VALUE=DURATION:PT1H
X-Robots-Tag:noindex
X-PUBLISHED-TTL:PT1H
BEGIN:VTIMEZONE
TZID:Europe/Berlin
BEGIN:DAYLIGHT
TZOFFSETFROM:+0100
TZOFFSETTO:+0200
TZNAME:CEST
DTSTART:20220327T010000
END:DAYLIGHT
BEGIN:STANDARD
TZOFFSETFROM:+0200
TZOFFSETTO:+0100
TZNAME:CET
DTSTART:20221030T010000
END:STANDARD
END:VTIMEZONE
BEGIN:VEVENT
DTSTART;TZID=Europe/Berlin:20221129T190000
DTEND;TZID=Europe/Berlin:20221129T203000
DTSTAMP:20260421T160347
CREATED:20221117T103818Z
LAST-MODIFIED:20221125T143127Z
UID:26001-1669748400-1669753800@pocketproject.org
SUMMARY:Community of Practice
DESCRIPTION:How can we befriend our nervous system in times of challenge? Can we slow down to notice the finer movements? Might we be able to be so attuned to ourselves that we are able to respond to our own needs early? Let’s cultivate self-love.
URL:https://pocketproject.org/event/community-of-practice-2/
ATTACH;FMTTYPE=image/png:https://pocketproject.org/wp-content/uploads/2022/11/8.png
END:VEVENT
END:VCALENDAR