BEGIN:VCALENDAR
VERSION:2.0
PRODID:-//The Pocket Project - ECPv6.3.7//NONSGML v1.0//EN
CALSCALE:GREGORIAN
METHOD:PUBLISH
X-ORIGINAL-URL:https://pocketproject.org
X-WR-CALDESC:Events for The Pocket Project
REFRESH-INTERVAL;VALUE=DURATION:PT1H
X-Robots-Tag:noindex
X-PUBLISHED-TTL:PT1H
BEGIN:VTIMEZONE
TZID:Europe/Berlin
BEGIN:DAYLIGHT
TZOFFSETFROM:+0100
TZOFFSETTO:+0200
TZNAME:CEST
DTSTART:20220327T010000
END:DAYLIGHT
BEGIN:STANDARD
TZOFFSETFROM:+0200
TZOFFSETTO:+0100
TZNAME:CET
DTSTART:20221030T010000
END:STANDARD
END:VTIMEZONE
BEGIN:VEVENT
DTSTART;TZID=Europe/Berlin:20221217T150000
DTEND;TZID=Europe/Berlin:20221217T163000
DTSTAMP:20260421T234439
CREATED:20221211T161456Z
LAST-MODIFIED:20221211T161456Z
UID:26688-1671289200-1671294600@pocketproject.org
SUMMARY:Група стабілізації психоемоційного стану
DESCRIPTION:Заходи направлені на стабілізацію психоемоційного стану жінок\, постраждалих внаслідок військових дій на території України. Мета: навчити навичок самодопомоги в стресовій ситуації. Центральним завданням є встановлення безпечної атмосфери. Український час – 16:00.
URL:https://pocketproject.org/event/%d0%b3%d1%80%d1%83%d0%bf%d0%b0-%d1%81%d1%82%d0%b0%d0%b1%d1%96%d0%bb%d1%96%d0%b7%d0%b0%d1%86%d1%96%d1%97-%d0%bf%d1%81%d0%b8%d1%85%d0%be%d0%b5%d0%bc%d0%be%d1%86%d1%96%d0%b9%d0%bd%d0%be%d0%b3%d0%be-6/
CATEGORIES:For Women by Women
ATTACH;FMTTYPE=image/png:https://pocketproject.org/wp-content/uploads/2022/11/4.png
END:VEVENT
BEGIN:VEVENT
DTSTART;TZID=Europe/Berlin:20221217T170000
DTEND;TZID=Europe/Berlin:20221217T183000
DTSTAMP:20260421T234439
CREATED:20221211T161732Z
LAST-MODIFIED:20221215T193907Z
UID:26690-1671296400-1671301800@pocketproject.org
SUMMARY:Як піклуватися про себе в умовах стресу та війни
DESCRIPTION:Арт-техніки для: стабілізації психоемоційного стану\, зниження емоційної напруги\, трансформування болючого стресового досвіду у ресурсний стан\, віднайдення нових можливостей.\nТехніки усвідомленості\, присутності\, заземлення. Український час – 18:00.
URL:https://pocketproject.org/event/%d1%8f%d0%ba-%d0%bf%d1%96%d0%ba%d0%bb%d1%83%d0%b2%d0%b0%d1%82%d0%b8%d1%81%d1%8f-%d0%bf%d1%80%d0%be-%d1%81%d0%b5%d0%b1%d0%b5-%d0%b2-%d1%83%d0%bc%d0%be%d0%b2%d0%b0%d1%85-%d1%81%d1%82%d1%80%d0%b5%d1%81-4/
LOCATION:Online – Zoom\, Some address\, online - zoom
CATEGORIES:Group-Experience (therapy/coaching - ideally with one therapist and one coach/facilitator)
ATTACH;FMTTYPE=image/png:https://pocketproject.org/wp-content/uploads/2022/11/4.png
END:VEVENT
END:VCALENDAR