BEGIN:VCALENDAR
VERSION:2.0
PRODID:-//The Pocket Project - ECPv6.3.7//NONSGML v1.0//EN
CALSCALE:GREGORIAN
METHOD:PUBLISH
X-ORIGINAL-URL:https://pocketproject.org
X-WR-CALDESC:Events for The Pocket Project
REFRESH-INTERVAL;VALUE=DURATION:PT1H
X-Robots-Tag:noindex
X-PUBLISHED-TTL:PT1H
BEGIN:VTIMEZONE
TZID:Europe/Berlin
BEGIN:DAYLIGHT
TZOFFSETFROM:+0100
TZOFFSETTO:+0200
TZNAME:CEST
DTSTART:20230326T010000
END:DAYLIGHT
BEGIN:STANDARD
TZOFFSETFROM:+0200
TZOFFSETTO:+0100
TZNAME:CET
DTSTART:20231029T010000
END:STANDARD
END:VTIMEZONE
BEGIN:VEVENT
DTSTART;TZID=Europe/Berlin:20230214T100000
DTEND;TZID=Europe/Berlin:20230214T120000
DTSTAMP:20260421T201211
CREATED:20230104T114536Z
LAST-MODIFIED:20230214T202348Z
UID:27768-1676368800-1676376000@pocketproject.org
SUMMARY:Grounding together / Онлайн-зустрічі підтримки для українців
DESCRIPTION:We will give some guidance for grounding and becoming present with your body awareness\, emotions and thoughts. Then we provide space for each participant to share and to be witnessed by us and the group presence. / У наших онлайн-зустрічах ми дамо деякі базові поради щодо того\, як усвідомити своє тіло і присутність у ньому\, “заземлити” емоції та думки у теперішньому часі. Кожен учасник матиме простір і можливість ділитися\, бути почутим та прийнятим у чутливому та безпечному колі групи. Завдяки уважному та глибокому слуханню ви зможете переосмислити той досвід\, через який ви зараз проходите. Онлайн-зустріч відбуватиметься англійською мовою з перекладом українською.
URL:https://pocketproject.org/event/grounding-together-%d0%be%d0%bd%d0%bb%d0%b0%d0%b9%d0%bd-%d0%b7%d1%83%d1%81%d1%82%d1%80%d1%96%d1%87%d1%96-%d0%bf%d1%96%d0%b4%d1%82%d1%80%d0%b8%d0%bc%d0%ba%d0%b8-%d0%b4%d0%bb%d1%8f-%d1%83%d0%ba%d1%80/
ATTACH;FMTTYPE=image/png:https://pocketproject.org/wp-content/uploads/2022/11/Group-sessions.png
END:VEVENT
END:VCALENDAR