BEGIN:VCALENDAR
VERSION:2.0
PRODID:-//The Pocket Project - ECPv6.3.7//NONSGML v1.0//EN
CALSCALE:GREGORIAN
METHOD:PUBLISH
X-WR-CALNAME:The Pocket Project
X-ORIGINAL-URL:https://pocketproject.org
X-WR-CALDESC:Events for The Pocket Project
REFRESH-INTERVAL;VALUE=DURATION:PT1H
X-Robots-Tag:noindex
X-PUBLISHED-TTL:PT1H
BEGIN:VTIMEZONE
TZID:Europe/Berlin
BEGIN:DAYLIGHT
TZOFFSETFROM:+0100
TZOFFSETTO:+0200
TZNAME:CEST
DTSTART:20230326T010000
END:DAYLIGHT
BEGIN:STANDARD
TZOFFSETFROM:+0200
TZOFFSETTO:+0100
TZNAME:CET
DTSTART:20231029T010000
END:STANDARD
END:VTIMEZONE
BEGIN:VEVENT
DTSTART;TZID=Europe/Berlin:20230215T180000
DTEND;TZID=Europe/Berlin:20230215T193000
DTSTAMP:20260421T182829
CREATED:20230131T143455Z
LAST-MODIFIED:20230213T141623Z
UID:28781-1676484000-1676489400@pocketproject.org
SUMMARY:Cultivating and Sharing Energy in Challenging Times
DESCRIPTION:In this session\, Denis Çelçima\, who is a professor of Psychology from Albania and Kosovo\, will share from her own experience during and since the Balkan war: How can we manage and strengthen our own hope and resilience in such times? How can we help others to do the same?
URL:https://pocketproject.org/event/cultivating-and-sharing-energy-in-challenging-times/
ATTACH;FMTTYPE=image/png:https://pocketproject.org/wp-content/uploads/2022/11/8.png
END:VEVENT
END:VCALENDAR