BEGIN:VCALENDAR
VERSION:2.0
PRODID:-//The Pocket Project - ECPv6.3.7//NONSGML v1.0//EN
CALSCALE:GREGORIAN
METHOD:PUBLISH
X-WR-CALNAME:The Pocket Project
X-ORIGINAL-URL:https://pocketproject.org
X-WR-CALDESC:Events for The Pocket Project
REFRESH-INTERVAL;VALUE=DURATION:PT1H
X-Robots-Tag:noindex
X-PUBLISHED-TTL:PT1H
BEGIN:VTIMEZONE
TZID:Europe/Berlin
BEGIN:DAYLIGHT
TZOFFSETFROM:+0100
TZOFFSETTO:+0200
TZNAME:CEST
DTSTART:20230326T010000
END:DAYLIGHT
BEGIN:STANDARD
TZOFFSETFROM:+0200
TZOFFSETTO:+0100
TZNAME:CET
DTSTART:20231029T010000
END:STANDARD
END:VTIMEZONE
BEGIN:VEVENT
DTSTART;TZID=Europe/Berlin:20230220T180000
DTEND;TZID=Europe/Berlin:20230220T193000
DTSTAMP:20260421T201703
CREATED:20230216T124203Z
LAST-MODIFIED:20230216T124818Z
UID:30593-1676916000-1676921400@pocketproject.org
SUMMARY:Дорога до себе. Дозволь собі бути!
DESCRIPTION:Стрес — це нормальна реакція на ненормальну кризову ситуацію. Кожна людина може переживати стрес\, але його симптоми часто залишаються непоміченими. Ми начебто втрачаємо звичні радари та опори\, виникає враження\, що світла в кінці тунелю немає. На нашій зустрічі шукатимемо ресурси\, які надають підтримку й відновлюють сили\, а також засвоїмо базові навички турботи про себе. Український час зустрічі – 19:00-20:30. 
URL:https://pocketproject.org/event/%d0%b4%d0%be%d1%80%d0%be%d0%b3%d0%b0-%d0%b4%d0%be-%d1%81%d0%b5%d0%b1%d0%b5-%d0%b4%d0%be%d0%b7%d0%b2%d0%be%d0%bb%d1%8c-%d1%81%d0%be%d0%b1%d1%96-%d0%b1%d1%83%d1%82%d0%b8/
LOCATION:Online – Zoom\, Some address\, online - zoom
ATTACH;FMTTYPE=image/png:https://pocketproject.org/wp-content/uploads/2022/11/Group-Experience-therapy_coaching-ideally-with-one-therapist-and-one-coach_facilitator-1.png
END:VEVENT
BEGIN:VEVENT
DTSTART;TZID=Europe/Berlin:20230220T200000
DTEND;TZID=Europe/Berlin:20230220T213000
DTSTAMP:20260421T201703
CREATED:20230216T130125Z
LAST-MODIFIED:20250630T132240Z
UID:30611-1676923200-1676928600@pocketproject.org
SUMMARY:Turkey-Syria Earthquake – Presence with the Shock of Disaster
DESCRIPTION:A week and a half after the earthquake hit Turkey and Syria\, the number of those killed has risen to more than 42\,000. The rescue phase of operations were “coming to a close”\, with the focus switching to caring for survivors\, many of whom have lost everything\, including their loved ones. We came together to bring our witnessing presence to a disaster of such magnitude and spread our care and compassion to our Turkish and Syrian friends.
URL:https://pocketproject.org/event/turkey-syria-earthquake/
CATEGORIES:Global Social Witnessing
ATTACH;FMTTYPE=image/jpeg:https://pocketproject.org/wp-content/uploads/2023/02/shutterstock_169087700-scaled.jpg
END:VEVENT
END:VCALENDAR