BEGIN:VCALENDAR
VERSION:2.0
PRODID:-//The Pocket Project - ECPv6.3.7//NONSGML v1.0//EN
CALSCALE:GREGORIAN
METHOD:PUBLISH
X-WR-CALNAME:The Pocket Project
X-ORIGINAL-URL:https://pocketproject.org
X-WR-CALDESC:Events for The Pocket Project
REFRESH-INTERVAL;VALUE=DURATION:PT1H
X-Robots-Tag:noindex
X-PUBLISHED-TTL:PT1H
BEGIN:VTIMEZONE
TZID:Europe/Berlin
BEGIN:DAYLIGHT
TZOFFSETFROM:+0100
TZOFFSETTO:+0200
TZNAME:CEST
DTSTART:20230326T010000
END:DAYLIGHT
BEGIN:STANDARD
TZOFFSETFROM:+0200
TZOFFSETTO:+0100
TZNAME:CET
DTSTART:20231029T010000
END:STANDARD
END:VTIMEZONE
BEGIN:VEVENT
DTSTART;TZID=Europe/Berlin:20230223T180000
DTEND;TZID=Europe/Berlin:20230223T193000
DTSTAMP:20260421T195412
CREATED:20230216T125147Z
LAST-MODIFIED:20230216T125147Z
UID:30607-1677175200-1677180600@pocketproject.org
SUMMARY:Особисті кордони
DESCRIPTION:Ситуація війни дуже вплинула на відчуття особистих кордонів. Це і загальне відчуття\, що кордони нашої держави були порушені\, і особистe. Український час – 19:00-20:30.
URL:https://pocketproject.org/event/%d0%be%d1%81%d0%be%d0%b1%d0%b8%d1%81%d1%82%d1%96-%d0%ba%d0%be%d1%80%d0%b4%d0%be%d0%bd%d0%b8-3/
LOCATION:Online – Zoom\, Some address\, online - zoom
ATTACH;FMTTYPE=image/png:https://pocketproject.org/wp-content/uploads/2022/11/Group-sessions.png
END:VEVENT
END:VCALENDAR