BEGIN:VCALENDAR
VERSION:2.0
PRODID:-//The Pocket Project - ECPv6.3.7//NONSGML v1.0//EN
CALSCALE:GREGORIAN
METHOD:PUBLISH
X-ORIGINAL-URL:https://pocketproject.org
X-WR-CALDESC:Events for The Pocket Project
REFRESH-INTERVAL;VALUE=DURATION:PT1H
X-Robots-Tag:noindex
X-PUBLISHED-TTL:PT1H
BEGIN:VTIMEZONE
TZID:Europe/Berlin
BEGIN:DAYLIGHT
TZOFFSETFROM:+0100
TZOFFSETTO:+0200
TZNAME:CEST
DTSTART:20230326T010000
END:DAYLIGHT
BEGIN:STANDARD
TZOFFSETFROM:+0200
TZOFFSETTO:+0100
TZNAME:CET
DTSTART:20231029T010000
END:STANDARD
END:VTIMEZONE
BEGIN:VEVENT
DTSTART;TZID=Europe/Berlin:20230227T180000
DTEND;TZID=Europe/Berlin:20230227T193000
DTSTAMP:20260421T183135
CREATED:20230216T125508Z
LAST-MODIFIED:20230216T125508Z
UID:30609-1677520800-1677526200@pocketproject.org
SUMMARY:Майстерня розвитку самопідтримки
DESCRIPTION:Заходи направлені на стабілізацію психоемоційного стану жінок\, постраждалих внаслідок військових дій на території України. Метою зустрічі є розвиток навичок самодопомоги в стресовій ситуації. Центральним завданням є встановлення безпечної атмосфери. Український час – 19:00-20:30.
URL:https://pocketproject.org/event/%d0%bc%d0%b0%d0%b9%d1%81%d1%82%d0%b5%d1%80%d0%bd%d1%8f-%d1%80%d0%be%d0%b7%d0%b2%d0%b8%d1%82%d0%ba%d1%83-%d1%81%d0%b0%d0%bc%d0%be%d0%bf%d1%96%d0%b4%d1%82%d1%80%d0%b8%d0%bc%d0%ba%d0%b8-2/
LOCATION:Online – Zoom\, Some address\, online - zoom
ATTACH;FMTTYPE=image/png:https://pocketproject.org/wp-content/uploads/2022/11/Group-sessions.png
END:VEVENT
BEGIN:VEVENT
DTSTART;TZID=Europe/Berlin:20230227T200000
DTEND;TZID=Europe/Berlin:20230227T213000
DTSTAMP:20260421T183135
CREATED:20230130T170005Z
LAST-MODIFIED:20250630T131846Z
UID:28607-1677528000-1677533400@pocketproject.org
SUMMARY:Women in Afghanistan – Life under Taliban Rule
DESCRIPTION:After the change of power in Kabul took place in December 2021\, the Pocket Project and its community supported one of our members\, Spozhmay O.\, to continue to follow her dreams of healing for Afghanistan by fleeing the country and working on her PhD. During this call\, Spozhmay shared updates on the life of her mother\, sisters\, and students who were/are still in Kabul under Taliban rule.
URL:https://pocketproject.org/event/global-social-witnessing-7/
CATEGORIES:Global Social Witnessing
ATTACH;FMTTYPE=image/png:https://pocketproject.org/wp-content/uploads/2023/01/Screenshot-2025-06-30-at-2.12.24-PM-e1751289467454.png
END:VEVENT
END:VCALENDAR