BEGIN:VCALENDAR
VERSION:2.0
PRODID:-//The Pocket Project - ECPv6.3.7//NONSGML v1.0//EN
CALSCALE:GREGORIAN
METHOD:PUBLISH
X-ORIGINAL-URL:https://pocketproject.org
X-WR-CALDESC:Events for The Pocket Project
REFRESH-INTERVAL;VALUE=DURATION:PT1H
X-Robots-Tag:noindex
X-PUBLISHED-TTL:PT1H
BEGIN:VTIMEZONE
TZID:Europe/Berlin
BEGIN:DAYLIGHT
TZOFFSETFROM:+0100
TZOFFSETTO:+0200
TZNAME:CEST
DTSTART:20230326T010000
END:DAYLIGHT
BEGIN:STANDARD
TZOFFSETFROM:+0200
TZOFFSETTO:+0100
TZNAME:CET
DTSTART:20231029T010000
END:STANDARD
END:VTIMEZONE
BEGIN:VEVENT
DTSTART;TZID=Europe/Berlin:20230308T180000
DTEND;TZID=Europe/Berlin:20230308T193000
DTSTAMP:20260421T183135
CREATED:20230302T103739Z
LAST-MODIFIED:20230302T103739Z
UID:31039-1678298400-1678303800@pocketproject.org
SUMMARY:Йога для тіла\, розуму та душі
DESCRIPTION:Практика допомагає навчитися опановувати свої емоції\, усвідомлювати свої думки\, свідомо поводитися у різних складних ситуаціях\, приймаючи їх як уроки\, які дає простір. Наше тіло — це інструмент\, за допомогою якого можна навчитися усвідомленості\, рівновазі\, прийняттю будь-чого. Пані Наталя\, практик з 20 річним досвідом\, проведе заняття помірного рівня складності\, тож сміливо доєднуйтеся\, навіть якщо маєте мінімальний досвід у роботі з тілом. Під час заняття ви зможете вимкнути камеру та повністю бути зі своїм досвідом. Український час – 19:00-20:30.
URL:https://pocketproject.org/event/%d0%b9%d0%be%d0%b3%d0%b0-%d0%b4%d0%bb%d1%8f-%d1%82%d1%96%d0%bb%d0%b0-%d1%80%d0%be%d0%b7%d1%83%d0%bc%d1%83-%d1%82%d0%b0-%d0%b4%d1%83%d1%88%d1%96/
LOCATION:Online – Zoom\, Some address\, online - zoom
ATTACH;FMTTYPE=image/png:https://pocketproject.org/wp-content/uploads/2022/11/Group-Experience-therapy_coaching-ideally-with-one-therapist-and-one-coach_facilitator-1.png
END:VEVENT
BEGIN:VEVENT
DTSTART;TZID=Europe/Berlin:20230308T200000
DTEND;TZID=Europe/Berlin:20230308T213000
DTSTAMP:20260421T183135
CREATED:20230216T102639Z
LAST-MODIFIED:20230227T104425Z
UID:30505-1678305600-1678311000@pocketproject.org
SUMMARY:Women in Love\, Women in Leadership
DESCRIPTION:We celebrate the power and beauty of women. We celebrate how far we have come since our mothers\, grandmothers and great-grandmothers started raising their voices. We invite all women to unfold our potential\, to create space for our true selves to shine\, and to bring our gifts to the world. We invite all women to deepen our relatedness\, with self and others\, with teams and ancestries\, with seniority and humility\, with earth and sky\, with time and space\,  with past and future. We invite all men to join us on this call and to celebrate with us!
URL:https://pocketproject.org/event/womens-day/
CATEGORIES:Community of Practice - Basic Skills
ATTACH;FMTTYPE=image/png:https://pocketproject.org/wp-content/uploads/2023/02/EVENT-COVERS-SITE-NAILIA-2.png
ORGANIZER;CN="Kosha Joubert":MAILTO:kosha.joubert@pocketproject.org
END:VEVENT
END:VCALENDAR