BEGIN:VCALENDAR
VERSION:2.0
PRODID:-//The Pocket Project - ECPv6.3.7//NONSGML v1.0//EN
CALSCALE:GREGORIAN
METHOD:PUBLISH
X-WR-CALNAME:The Pocket Project
X-ORIGINAL-URL:https://pocketproject.org
X-WR-CALDESC:Events for The Pocket Project
REFRESH-INTERVAL;VALUE=DURATION:PT1H
X-Robots-Tag:noindex
X-PUBLISHED-TTL:PT1H
BEGIN:VTIMEZONE
TZID:Europe/Berlin
BEGIN:DAYLIGHT
TZOFFSETFROM:+0100
TZOFFSETTO:+0200
TZNAME:CEST
DTSTART:20230326T010000
END:DAYLIGHT
BEGIN:STANDARD
TZOFFSETFROM:+0200
TZOFFSETTO:+0100
TZNAME:CET
DTSTART:20231029T010000
END:STANDARD
END:VTIMEZONE
BEGIN:VEVENT
DTSTART;TZID=Europe/Berlin:20230313T200000
DTEND;TZID=Europe/Berlin:20230313T213000
DTSTAMP:20260421T183054
CREATED:20230131T144701Z
LAST-MODIFIED:20230310T120913Z
UID:28786-1678737600-1678743000@pocketproject.org
SUMMARY:Intimacy with Nature
DESCRIPTION:You will be invited into the joy and discomfort of doing the reconnective work of acknowledging that your very roots and cells are nature. What are the barriers and edges for your intimacy with nature? Together\, we will acknowledge our constellation of where we sit on the earth grid and cultivate a collective prayer for reconnection.
URL:https://pocketproject.org/event/intimacy-in-nature/
CATEGORIES:Community of Practice - Basic Skills
ATTACH;FMTTYPE=image/png:https://pocketproject.org/wp-content/uploads/2022/11/8.png
END:VEVENT
END:VCALENDAR