BEGIN:VCALENDAR
VERSION:2.0
PRODID:-//The Pocket Project - ECPv6.3.7//NONSGML v1.0//EN
CALSCALE:GREGORIAN
METHOD:PUBLISH
X-WR-CALNAME:The Pocket Project
X-ORIGINAL-URL:https://pocketproject.org
X-WR-CALDESC:Events for The Pocket Project
REFRESH-INTERVAL;VALUE=DURATION:PT1H
X-Robots-Tag:noindex
X-PUBLISHED-TTL:PT1H
BEGIN:VTIMEZONE
TZID:Europe/Berlin
BEGIN:DAYLIGHT
TZOFFSETFROM:+0100
TZOFFSETTO:+0200
TZNAME:CEST
DTSTART:20230326T010000
END:DAYLIGHT
BEGIN:STANDARD
TZOFFSETFROM:+0200
TZOFFSETTO:+0100
TZNAME:CET
DTSTART:20231029T010000
END:STANDARD
END:VTIMEZONE
BEGIN:VEVENT
DTSTART;TZID=Europe/Berlin:20230324T180000
DTEND;TZID=Europe/Berlin:20230324T193000
DTSTAMP:20260421T183046
CREATED:20230310T151718Z
LAST-MODIFIED:20230310T151718Z
UID:31657-1679680800-1679686200@pocketproject.org
SUMMARY:Мама та дитина
DESCRIPTION:Розглянемо систему зв’язку ділянок мозку мами та дитини та попрацюємо зі спогадами. Сфокусуємося на обробці спільних з дитиною пройдених переживань чи травматичних переживань дитини через сенсорну систему мами. Український час – 19:00-20:30.
URL:https://pocketproject.org/event/%d0%bc%d0%b0%d0%bc%d0%b0-%d1%82%d0%b0-%d0%b4%d0%b8%d1%82%d0%b8%d0%bd%d0%b0/
LOCATION:Online – Zoom\, Some address\, online - zoom
ATTACH;FMTTYPE=image/png:https://pocketproject.org/wp-content/uploads/2022/11/4.png
END:VEVENT
END:VCALENDAR