BEGIN:VCALENDAR
VERSION:2.0
PRODID:-//The Pocket Project - ECPv6.3.7//NONSGML v1.0//EN
CALSCALE:GREGORIAN
METHOD:PUBLISH
X-WR-CALNAME:The Pocket Project
X-ORIGINAL-URL:https://pocketproject.org
X-WR-CALDESC:Events for The Pocket Project
REFRESH-INTERVAL;VALUE=DURATION:PT1H
X-Robots-Tag:noindex
X-PUBLISHED-TTL:PT1H
BEGIN:VTIMEZONE
TZID:Europe/Berlin
BEGIN:DAYLIGHT
TZOFFSETFROM:+0100
TZOFFSETTO:+0200
TZNAME:CEST
DTSTART:20230326T010000
END:DAYLIGHT
BEGIN:STANDARD
TZOFFSETFROM:+0200
TZOFFSETTO:+0100
TZNAME:CET
DTSTART:20231029T010000
END:STANDARD
END:VTIMEZONE
BEGIN:VEVENT
DTSTART;TZID=Europe/Berlin:20230413T180000
DTEND;TZID=Europe/Berlin:20230413T193000
DTSTAMP:20260421T163946
CREATED:20230327T185837Z
LAST-MODIFIED:20230327T185837Z
UID:32539-1681408800-1681414200@pocketproject.org
SUMMARY:Підтримка українців у міграції
DESCRIPTION:Як вимушена міграція\, так і міграція\, до якої готувалися\, це криза. В першу чергу\, група дозволить поділитися наболілим та знизити рівень емоційного напруження. Також група буде корисна тим\, хто хоче поміркувати на наступні теми. Осісти чи очікувати? На якій стадії міграції ви знаходитесь зараз? Як поводитися з гострими почуттями та відчуттям безсилля? Чого очікувати від себе? Де брати ресурс? Які установки гальмують вас? Що полегшує (але не прискорює) адаптацію.  \nГрупа для тих\, хто змінив свою домівку\, своє оточення та себе. Український час зустрічі – 19:00-20:30. 
URL:https://pocketproject.org/event/%d0%bf%d1%96%d0%b4%d1%82%d1%80%d0%b8%d0%bc%d0%ba%d0%b0-%d1%83%d0%ba%d1%80%d0%b0%d1%97%d0%bd%d1%86%d1%96%d0%b2-%d1%83-%d0%bc%d1%96%d0%b3%d1%80%d0%b0%d1%86%d1%96%d1%97-3/
LOCATION:Online – Zoom\, Some address\, online - zoom
ATTACH;FMTTYPE=image/png:https://pocketproject.org/wp-content/uploads/2022/11/Group-Experience-therapy_coaching-ideally-with-one-therapist-and-one-coach_facilitator-1.png
END:VEVENT
END:VCALENDAR