BEGIN:VCALENDAR
VERSION:2.0
PRODID:-//The Pocket Project - ECPv6.3.7//NONSGML v1.0//EN
CALSCALE:GREGORIAN
METHOD:PUBLISH
X-WR-CALNAME:The Pocket Project
X-ORIGINAL-URL:https://pocketproject.org
X-WR-CALDESC:Events for The Pocket Project
REFRESH-INTERVAL;VALUE=DURATION:PT1H
X-Robots-Tag:noindex
X-PUBLISHED-TTL:PT1H
BEGIN:VTIMEZONE
TZID:Europe/Berlin
BEGIN:DAYLIGHT
TZOFFSETFROM:+0100
TZOFFSETTO:+0200
TZNAME:CEST
DTSTART:20230326T010000
END:DAYLIGHT
BEGIN:STANDARD
TZOFFSETFROM:+0200
TZOFFSETTO:+0100
TZNAME:CET
DTSTART:20231029T010000
END:STANDARD
END:VTIMEZONE
BEGIN:VEVENT
DTSTART;TZID=Europe/Berlin:20230418T180000
DTEND;TZID=Europe/Berlin:20230418T193000
DTSTAMP:20260421T163948
CREATED:20230327T200753Z
LAST-MODIFIED:20230327T200753Z
UID:32545-1681840800-1681846200@pocketproject.org
SUMMARY:Дихання для життя
DESCRIPTION:Для більшості людей\, дихання це звичайна функція\, яка виконується тисячі разів щодня з безтурботною зневагою до його дивовижних можливостей. Без усвідомлення\, ваше дихання – це захований скарб. З усвідомленням ваше дихання може мати доступ до необмежених ресурсів\, щоб допомогти вам процвітати в усіх сферах вашого життя. Український час зустрічі – 19:00-20:30. \n  \nНа наших зустрічах ми сфокусуємося на досягненні чотирьох основних цілей: \n\n\n\n1. Зрозуміти те\, як ви дихаєте\, це – і мистецтво\, і наука.\n2. Набути вміння свідомо керувати своєю нервовою системою.\n3. Зміцнити основу присутності у своєму тілі.\n4. Дізнатись\, як дихати у найбільш правильний і вигідний спосіб\, мить за миттю і за будь-яких обставин. 
URL:https://pocketproject.org/event/%d0%b4%d0%b8%d1%85%d0%b0%d0%bd%d0%bd%d1%8f-%d0%b4%d0%bb%d1%8f-%d0%b6%d0%b8%d1%82%d1%82%d1%8f-2/
LOCATION:Online – Zoom\, Some address\, online - zoom
ATTACH;FMTTYPE=image/png:https://pocketproject.org/wp-content/uploads/2022/11/Group-Experience-therapy_coaching-ideally-with-one-therapist-and-one-coach_facilitator-1.png
END:VEVENT
BEGIN:VEVENT
DTSTART;TZID=Europe/Berlin:20230418T190000
DTEND;TZID=Europe/Berlin:20230418T203000
DTSTAMP:20260421T163948
CREATED:20230128T230541Z
LAST-MODIFIED:20230414T165026Z
UID:28499-1681844400-1681849800@pocketproject.org
SUMMARY:Global Social Witnessing
DESCRIPTION:The war in Ukraine is stirring many deep unhealed wounds of war\, both ancestral and cultural\, for people outside of Ukraine. Old trauma can leave us with feelings of stress\, a separateness from others\, and can make it hard to stay present to the world around us and also what is happening in Ukraine.
URL:https://pocketproject.org/event/global-social-witnessing-6/
CATEGORIES:Community of Practice - Basic Skills,Global Social Witnessing
ATTACH;FMTTYPE=image/png:https://pocketproject.org/wp-content/uploads/2022/11/witnessing-events-COP-2-2.png
END:VEVENT
END:VCALENDAR