BEGIN:VCALENDAR
VERSION:2.0
PRODID:-//The Pocket Project - ECPv6.3.7//NONSGML v1.0//EN
CALSCALE:GREGORIAN
METHOD:PUBLISH
X-WR-CALNAME:The Pocket Project
X-ORIGINAL-URL:https://pocketproject.org
X-WR-CALDESC:Events for The Pocket Project
REFRESH-INTERVAL;VALUE=DURATION:PT1H
X-Robots-Tag:noindex
X-PUBLISHED-TTL:PT1H
BEGIN:VTIMEZONE
TZID:Europe/Berlin
BEGIN:DAYLIGHT
TZOFFSETFROM:+0100
TZOFFSETTO:+0200
TZNAME:CEST
DTSTART:20250330T010000
END:DAYLIGHT
BEGIN:STANDARD
TZOFFSETFROM:+0200
TZOFFSETTO:+0100
TZNAME:CET
DTSTART:20251026T010000
END:STANDARD
END:VTIMEZONE
BEGIN:VEVENT
DTSTART;TZID=Europe/Berlin:20250220T170000
DTEND;TZID=Europe/Berlin:20250220T184500
DTSTAMP:20260417T132652
CREATED:20250204T094856Z
LAST-MODIFIED:20250204T183222Z
UID:55273-1740070800-1740077100@pocketproject.org
SUMMARY:Coming Home to Being Jewish
DESCRIPTION:This is for anyone who identifies as Jewish! \nCreating a warm and safe space for the presencing and integration of the individual\, ancestral and collective trauma and resilience of being Jewish. \nWe will meet monthly\, from 1600-1745 UK time\, with people who identify as having Jewish ancestry\, to explore aspects of our Jewish experience including: the presencing of our individual\, ancestral and collective trauma; the challenges of the current situation in the Middle East; aspects of both Jewish persecution and perpetration; internalised anti-semitism and whatever themes and experiences group participants bring to the call. \nOur intention is to create a warm\, welcoming and safe space in which such topics and experiences can be felt\, held within a field of group coherence and resonance\, and in this way to support our individual and collective capacity to reflect\, digest and integrate what arises. \n 
URL:https://pocketproject.org/event/coming-home-to-being-jewish/
CATEGORIES:Community of Practice - Basic Skills,Featured,Jewish Trauma Relief
ATTACH;FMTTYPE=image/png:https://pocketproject.org/wp-content/uploads/2025/02/Screen-Shot-2025-02-04-at-11.49.05-AM-1.png
END:VEVENT
END:VCALENDAR