BEGIN:VCALENDAR
VERSION:2.0
PRODID:-//The Pocket Project - ECPv6.3.7//NONSGML v1.0//EN
CALSCALE:GREGORIAN
METHOD:PUBLISH
X-ORIGINAL-URL:https://pocketproject.org
X-WR-CALDESC:Events for The Pocket Project
REFRESH-INTERVAL;VALUE=DURATION:PT1H
X-Robots-Tag:noindex
X-PUBLISHED-TTL:PT1H
BEGIN:VTIMEZONE
TZID:America/New_York
BEGIN:DAYLIGHT
TZOFFSETFROM:-0500
TZOFFSETTO:-0400
TZNAME:EDT
DTSTART:20250309T070000
END:DAYLIGHT
BEGIN:STANDARD
TZOFFSETFROM:-0400
TZOFFSETTO:-0500
TZNAME:EST
DTSTART:20251102T060000
END:STANDARD
END:VTIMEZONE
BEGIN:VEVENT
DTSTART;TZID=America/New_York:20250407T190000
DTEND;TZID=America/New_York:20250407T204500
DTSTAMP:20260417T130353
CREATED:20250312T104745Z
LAST-MODIFIED:20250312T110453Z
UID:56974-1744052400-1744058700@pocketproject.org
SUMMARY:Embodied Connection to our Jewish Resilience
DESCRIPTION:Fostering a Felt Sense of Safety in our Jewish Belonging – For anyone who identifies as Jewish \nThis monthly gathering offers a warm and supportive space for those with Jewish ancestry to explore resilience\, belonging\, and the integration of individual\, ancestral\, and collective experiences. Together\, we reflect on personal and historical trauma\, the challenges of the present\, and the strength within our Jewish identity. By cultivating safety and connection\, we support our individual and collective capacity to process\, integrate\, and deepen our sense of Jewish belonging. \n 
URL:https://pocketproject.org/event/embodied-connection-to-our-jewish-resilience-2/
CATEGORIES:Community of Practice - Basic Skills,Featured,Jewish Trauma Relief
ATTACH;FMTTYPE=image/png:https://pocketproject.org/wp-content/uploads/2024/10/mainCollage_jewish.png
END:VEVENT
END:VCALENDAR