BEGIN:VCALENDAR
VERSION:2.0
PRODID:-//The Pocket Project - ECPv6.3.7//NONSGML v1.0//EN
CALSCALE:GREGORIAN
METHOD:PUBLISH
X-WR-CALNAME:The Pocket Project
X-ORIGINAL-URL:https://pocketproject.org
X-WR-CALDESC:Events for The Pocket Project
REFRESH-INTERVAL;VALUE=DURATION:PT1H
X-Robots-Tag:noindex
X-PUBLISHED-TTL:PT1H
BEGIN:VTIMEZONE
TZID:Europe/Berlin
BEGIN:DAYLIGHT
TZOFFSETFROM:+0100
TZOFFSETTO:+0200
TZNAME:CEST
DTSTART:20250330T010000
END:DAYLIGHT
BEGIN:STANDARD
TZOFFSETFROM:+0200
TZOFFSETTO:+0100
TZNAME:CET
DTSTART:20251026T010000
END:STANDARD
END:VTIMEZONE
BEGIN:VEVENT
DTSTART;TZID=Europe/Berlin:20250429T191500
DTEND;TZID=Europe/Berlin:20250429T211500
DTSTAMP:20260417T131603
CREATED:20250415T141934Z
LAST-MODIFIED:20250415T144557Z
UID:58755-1745954100-1745961300@pocketproject.org
SUMMARY:The Israeli-Palestinian 20th Joint Memorial Ceremony
DESCRIPTION:Hand-in-hand with the Pocket Project Trauma Relief Project  \nNow in its 20th year\, the Joint Memorial Ceremony organised by Combatants for Peace and the Parents Circle – Families Forum is a beacon of hope in the darkness. Through testimonies from bereaved Israeli and Palestinian families\, musical performances\, and messages of peace from human rights leaders\, we explore how\, even in the face of unimaginable loss\, we can still choose humanity over hatred and hope over despair. The Joint Memorial Ceremony is the largest Israeli-Palestinian peace event in history. This year’s ceremony will be livestreamed on April 29\, 2025. \nJoin us at the Pocket Project in solidarity to bear witness and refuse to accept that war is our destiny. We will meet at 19:15 CET/ 1:15pm EST/10:15am PST to arrive together\, watch the ceremony in community and have some space afterwards to hear voices. Let’s witness together\, rather than alone. \nJoin us to regain hope that humanity can prevail.
URL:https://pocketproject.org/event/the-israeli-palestinian-20th-joint-memorial-ceremony/
CATEGORIES:Featured,Global Social Witnessing,Jewish Trauma Relief,Palestine Trauma Relief
ATTACH;FMTTYPE=image/png:https://pocketproject.org/wp-content/uploads/2025/04/April-29.png
END:VEVENT
END:VCALENDAR