BEGIN:VCALENDAR
VERSION:2.0
PRODID:-//The Pocket Project - ECPv6.3.7//NONSGML v1.0//EN
CALSCALE:GREGORIAN
METHOD:PUBLISH
X-WR-CALNAME:The Pocket Project
X-ORIGINAL-URL:https://pocketproject.org
X-WR-CALDESC:Events for The Pocket Project
REFRESH-INTERVAL;VALUE=DURATION:PT1H
X-Robots-Tag:noindex
X-PUBLISHED-TTL:PT1H
BEGIN:VTIMEZONE
TZID:Europe/Berlin
BEGIN:DAYLIGHT
TZOFFSETFROM:+0100
TZOFFSETTO:+0200
TZNAME:CEST
DTSTART:20250330T010000
END:DAYLIGHT
BEGIN:STANDARD
TZOFFSETFROM:+0200
TZOFFSETTO:+0100
TZNAME:CET
DTSTART:20251026T010000
END:STANDARD
TZID:America/New_York
BEGIN:DAYLIGHT
TZOFFSETFROM:-0500
TZOFFSETTO:-0400
TZNAME:EDT
DTSTART:20250309T070000
END:DAYLIGHT
BEGIN:STANDARD
TZOFFSETFROM:-0400
TZOFFSETTO:-0500
TZNAME:EST
DTSTART:20251102T060000
END:STANDARD
END:VTIMEZONE
BEGIN:VEVENT
DTSTART;TZID=Europe/Berlin:20250506T190000
DTEND;TZID=Europe/Berlin:20250506T203000
DTSTAMP:20260417T123459
CREATED:20250402T181240Z
LAST-MODIFIED:20250418T120231Z
UID:58205-1746558000-1746563400@pocketproject.org
SUMMARY:Being Overlooked as a Palestinian in Diaspora
DESCRIPTION:The group call aims to create a safe and supportive space to share experiences and support being gaslighted or feeling that your pain is overlooked/gaslighted in work and life environments. \nYou find yourself in a strange reality at work – feeling emotionally and physically exhausted\, demotivated\, and sleepless\, but unable to share what is present for you during a team meeting check-in or a side conversation with a colleague. Our inner world is in turmoil\, while we grapple with nightmares and the weight of what we have seen\, yet we navigate institutions and communities that seem oblivious to the reality we live in. These institutions\, to which we have given our time and energy\, continue with “business as usual\,” while two million people trapped in a cage are being mass murdered with either the complicity or active participation of their governments. And you are asked to play pretend as well and go with “business as usual.” \nHow are we managing this immense challenge? How do we confront the hypocrisy of this moment? Is it possible to maintain authentic connections when our deepest emotions and our fundamental sense of reality are neither acknowledged nor welcomed? How do we deal with the hurt that we carry and the sense of betrayal by friends\, colleagues\, and institutions? \nWe do not offer easy solutions or definitive answers. Instead\, we offer a temporary digital space where we can be seen and heard by each other and recognize the profound pain we are experiencing. We provide a space for sharing our collective experiences and the lessons we have learned so far. \nWho is Invited: This session is specifically for Palestinians in the diaspora who are navigating this complex reality\, whether within their workplaces\, institutions\, or informal social structures. We also warmly welcome other affected individuals and allies who have experienced similar challenges.
URL:https://pocketproject.org/event/being-overlooked-as-a-palestinian-in-diaspora/
CATEGORIES:Palestine Trauma Relief
ATTACH;FMTTYPE=image/png:https://pocketproject.org/wp-content/uploads/2025/02/texture2-1.png
END:VEVENT
BEGIN:VEVENT
DTSTART;TZID=America/New_York:20250506T190000
DTEND;TZID=America/New_York:20250506T204500
DTSTAMP:20260417T123459
CREATED:20250407T171843Z
LAST-MODIFIED:20250410T085127Z
UID:58398-1746558000-1746564300@pocketproject.org
SUMMARY:Embodied Connection to our Jewish Resilience
DESCRIPTION:Fostering a Felt Sense of Safety in our Jewish Belonging – For anyone who identifies as Jewish \nThis monthly gathering offers a warm and supportive space for those with Jewish ancestry to explore resilience\, belonging\, and the integration of individual\, ancestral\, and collective experiences. Together\, we reflect on personal and historical trauma\, the challenges of the present\, and the strength within our Jewish identity. By cultivating safety and connection\, we support our individual and collective capacity to process\, integrate\, and deepen our sense of Jewish belonging. \n 
URL:https://pocketproject.org/event/embodied-connection-to-our-jewish-resilience-3/
CATEGORIES:Jewish Trauma Relief
ATTACH;FMTTYPE=image/png:https://pocketproject.org/wp-content/uploads/2024/10/mainCollage_jewish.png
END:VEVENT
END:VCALENDAR