BEGIN:VCALENDAR
VERSION:2.0
PRODID:-//The Pocket Project - ECPv6.3.7//NONSGML v1.0//EN
CALSCALE:GREGORIAN
METHOD:PUBLISH
X-ORIGINAL-URL:https://pocketproject.org
X-WR-CALDESC:Events for The Pocket Project
REFRESH-INTERVAL;VALUE=DURATION:PT1H
X-Robots-Tag:noindex
X-PUBLISHED-TTL:PT1H
BEGIN:VTIMEZONE
TZID:Europe/Berlin
BEGIN:DAYLIGHT
TZOFFSETFROM:+0100
TZOFFSETTO:+0200
TZNAME:CEST
DTSTART:20250330T010000
END:DAYLIGHT
BEGIN:STANDARD
TZOFFSETFROM:+0200
TZOFFSETTO:+0100
TZNAME:CET
DTSTART:20251026T010000
END:STANDARD
END:VTIMEZONE
BEGIN:VEVENT
DTSTART;TZID=Europe/Berlin:20250924T200000
DTEND;TZID=Europe/Berlin:20250924T213000
DTSTAMP:20260417T124147
CREATED:20250909T102747Z
LAST-MODIFIED:20250909T110128Z
UID:64546-1758744000-1758749400@pocketproject.org
SUMMARY:Centering Self - Meeting the Heat of the World without Losing Yourself
DESCRIPTION:In a world that feels increasingly charged with conflict\, injustice\, and uncertainty\, it can be easy to lose touch with our center. How do we meet the intensity of these times without becoming overwhelmed or disconnected from ourselves? This community call invites us to explore the intersection of personal resilience and systemic transformation. \nTogether we will reflect on how trauma – both personal and systemic\, shapes our responses\, and how culturally responsive\, healing-centered practices can help us stay rooted in strength\, compassion\, and clarity\, and transform oppressive structures into living networks of repair. By learning to navigate stress and reactivity with awareness\, we open space for greater intimacy\, repair\, and justice in our relationships and our communities. \nThis gathering is an opportunity to pause\, breathe\, and discover practices that sustain our own well-being\, while honoring how each of our stories has the potential to shape the systems we are a part of into pathways of equity\, care\, and belonging. \nIn this community call\, we will explore: \n\nHow to stay centered when facing collective stress\, conflict\, or injustice.\nPractices that cultivate resilience and prevent overwhelm or burnout.\nWays to align personal healing with community well-being and systemic change.\n\n 
URL:https://pocketproject.org/event/centering-self-meeting-the-heat-of-the-world-without-losing-yourself/
CATEGORIES:Community of Practice - Basic Skills,Featured
ATTACH;FMTTYPE=image/jpeg:https://pocketproject.org/wp-content/uploads/2025/09/shutterstock_2137904823-min-scaled.jpg
END:VEVENT
END:VCALENDAR