BEGIN:VCALENDAR
VERSION:2.0
PRODID:-//The Pocket Project - ECPv6.3.7//NONSGML v1.0//EN
CALSCALE:GREGORIAN
METHOD:PUBLISH
X-WR-CALNAME:The Pocket Project
X-ORIGINAL-URL:https://pocketproject.org
X-WR-CALDESC:Events for The Pocket Project
REFRESH-INTERVAL;VALUE=DURATION:PT1H
X-Robots-Tag:noindex
X-PUBLISHED-TTL:PT1H
BEGIN:VTIMEZONE
TZID:Europe/Berlin
BEGIN:DAYLIGHT
TZOFFSETFROM:+0100
TZOFFSETTO:+0200
TZNAME:CEST
DTSTART:20250330T010000
END:DAYLIGHT
BEGIN:STANDARD
TZOFFSETFROM:+0200
TZOFFSETTO:+0100
TZNAME:CET
DTSTART:20251026T010000
END:STANDARD
END:VTIMEZONE
BEGIN:VEVENT
DTSTART;TZID=Europe/Berlin:20251014T200000
DTEND;TZID=Europe/Berlin:20251014T213000
DTSTAMP:20260417T160906
CREATED:20250930T134259Z
LAST-MODIFIED:20251002T142704Z
UID:65173-1760472000-1760477400@pocketproject.org
SUMMARY:Learning from Life – How the Human World Can Evolve Through Nature’s Wisdom
DESCRIPTION:In this Global Social Witnessing Call\, we turn toward the wisdom of the natural world. From fireflies synchronizing their rhythms\, to the vast murmuration of starlings\, to the hidden mycelial networks that weave forests into resilient communities—nature reveals patterns of coherence\, adaptability\, and care that have guided life for millions of years. \nTogether we will explore how the pre-egoic intelligence of nature—relational\, emergent\, and interdependent—can inspire the trans-egoic development of humanity. By mindfully attending to these living metaphors\, we open a space to sense how our social body might learn from the natural body of Earth. Through presence\, we invite a deeper connection to the wisdom embedded in life itself\, and reflect on how it may guide us in healing fragmentation and fostering resilience in our human systems. \nYou will: \n\nRestore your sense of awe and wonder by attuning to the beauty\, intelligence\, and resilience expressed in the natural world.\nDiscover guiding metaphors from nature that illuminate new possibilities for coherence\, care\, and creativity in human systems.\nStrengthen your embodied practice of Global Social Witnessing by learning to hold presence with the interwoven life of both nature and humanity.\n\nPlease note: This event is part of the 2025 Collective Trauma Summit hosted by Thomas Hübl. The online summit runs from October 12-18\, 2025. Read more & sign up for free here \n 
URL:https://pocketproject.org/event/learning-from-life-how-the-human-world-can-evolve-through-natures-wisdom/
CATEGORIES:Featured,Global Social Witnessing
ATTACH;FMTTYPE=image/jpeg:https://pocketproject.org/wp-content/uploads/2025/09/CTS25-Pocket-Project-WEB.jpg
ORGANIZER;CN="Kosha Joubert":MAILTO:kosha.joubert@pocketproject.org
END:VEVENT
END:VCALENDAR