BEGIN:VCALENDAR
VERSION:2.0
PRODID:-//The Pocket Project - ECPv6.3.7//NONSGML v1.0//EN
CALSCALE:GREGORIAN
METHOD:PUBLISH
X-WR-CALNAME:The Pocket Project
X-ORIGINAL-URL:https://pocketproject.org
X-WR-CALDESC:Events for The Pocket Project
REFRESH-INTERVAL;VALUE=DURATION:PT1H
X-Robots-Tag:noindex
X-PUBLISHED-TTL:PT1H
BEGIN:VTIMEZONE
TZID:Europe/Berlin
BEGIN:DAYLIGHT
TZOFFSETFROM:+0100
TZOFFSETTO:+0200
TZNAME:CEST
DTSTART:20250330T010000
END:DAYLIGHT
BEGIN:STANDARD
TZOFFSETFROM:+0200
TZOFFSETTO:+0100
TZNAME:CET
DTSTART:20251026T010000
END:STANDARD
END:VTIMEZONE
BEGIN:VEVENT
DTSTART;TZID=Europe/Berlin:20251210T200000
DTEND;TZID=Europe/Berlin:20251210T213000
DTSTAMP:20260420T075222
CREATED:20251128T112557Z
LAST-MODIFIED:20251128T115819Z
UID:70002-1765396800-1765402200@pocketproject.org
SUMMARY:Meeting the Current Political Divide in the U.S. - Witnessing our Responses and Resources
DESCRIPTION:The first year of the Trump administration has dismantled existing structures and long-held political agreements.  The changes\, welcomed by supporters and outraging to others\, are impacting the lives of U.S. residents and people around the world. \nThis Global Social Witnessing will not be a space for political debate\, rather an opportunity to witness diverse experiences\, challenges and impacts along with the range of resources that we employ as we meet the political division and disruption in many of our lives. \nTogether we will practice our ability to remain present as we listen to the possible range of feelings and experiences shared.  We will hold space for the diversity of voices in the community gathered\, maintaining awareness of our embodied experience\, presencing our resources\, our challenges\, and our ability to respond. \nWe will meet and welcome the current limits of our capacity to turn toward this moment with our bodies\, our breath\, and openness to listen\, and we will be as aware as possible of our felt responses to whatever experiences are shared in the room. \nIn this call\, we will explore: \n\nResources that support our ability to stay conscious of our own experience and the experience  of others \nGrounding – as a way to stay present amidst divergence and pain\nNavigating turbulence with compassionate presence – exploring our capacity to stay with difference\, together\n\nWe trust in the quiet power of witnessing life as it is\, as the starting point for moving forward. \n 
URL:https://pocketproject.org/event/meeting-the-current-political-divide-in-the-u-s-witnessing-our-responses-and-resources/
CATEGORIES:Featured,Global Social Witnessing
ATTACH;FMTTYPE=image/jpeg:https://pocketproject.org/wp-content/uploads/2025/11/GSW-USA-scaled.jpg
END:VEVENT
END:VCALENDAR