BEGIN:VCALENDAR
VERSION:2.0
PRODID:-//The Pocket Project - ECPv6.3.7//NONSGML v1.0//EN
CALSCALE:GREGORIAN
METHOD:PUBLISH
X-ORIGINAL-URL:https://pocketproject.org
X-WR-CALDESC:Events for The Pocket Project
REFRESH-INTERVAL;VALUE=DURATION:PT1H
X-Robots-Tag:noindex
X-PUBLISHED-TTL:PT1H
BEGIN:VTIMEZONE
TZID:Europe/Berlin
BEGIN:DAYLIGHT
TZOFFSETFROM:+0100
TZOFFSETTO:+0200
TZNAME:CEST
DTSTART:20250330T010000
END:DAYLIGHT
BEGIN:STANDARD
TZOFFSETFROM:+0200
TZOFFSETTO:+0100
TZNAME:CET
DTSTART:20251026T010000
END:STANDARD
TZID:America/New_York
BEGIN:DAYLIGHT
TZOFFSETFROM:-0500
TZOFFSETTO:-0400
TZNAME:EDT
DTSTART:20250309T070000
END:DAYLIGHT
BEGIN:STANDARD
TZOFFSETFROM:-0400
TZOFFSETTO:-0500
TZNAME:EST
DTSTART:20251102T060000
END:STANDARD
END:VTIMEZONE
BEGIN:VEVENT
DTSTART;TZID=Europe/Berlin:20251216T170000
DTEND;TZID=Europe/Berlin:20251216T184500
DTSTAMP:20260420T081346
CREATED:20251111T103512Z
LAST-MODIFIED:20251117T124130Z
UID:68236-1765904400-1765910700@pocketproject.org
SUMMARY:Coming Home to Being Jewish
DESCRIPTION:We are looking forward to seeing you on December 16. As this is our last session in the year long cycle of calls for the Jewish Trauma Relief Project\, this particular session will be suitable for anybody who has already participated in the calls\, but not for people wanting to attend for the first time. In addition to providing our customary space to be present to and integrate our experiences of Jewish trauma\, we will also be completing a cycle together\, and sharing information about other possibilities for you in 2026.  Thank you for your understanding and we look forward to meeting any and all previous participants on December 16.\n 
URL:https://pocketproject.org/event/coming-home-to-being-jewish-11/
CATEGORIES:Jewish Trauma Relief
ATTACH;FMTTYPE=image/png:https://pocketproject.org/wp-content/uploads/2025/02/Screen-Shot-2025-02-04-at-11.49.05-AM-1.png
END:VEVENT
BEGIN:VEVENT
DTSTART;TZID=America/New_York:20251216T190000
DTEND;TZID=America/New_York:20251216T204500
DTSTAMP:20260420T081346
CREATED:20251021T050447Z
LAST-MODIFIED:20251203T151136Z
UID:66607-1765911600-1765917900@pocketproject.org
SUMMARY:Embodied Connection to our Jewish Resilience
DESCRIPTION:We are looking forward to seeing you on December 16. As this is our last session in the year long cycle of calls for the Jewish Trauma Relief Project\, this particular session will be suitable for anybody who has already participated in the calls\, but not for people wanting to attend for the first time. In addition to providing our customary space to be present to and integrate our experiences of Jewish trauma\, we will also be completing a cycle together\, and sharing information about other possibilities for you in 2026.  Thank you for your understanding and we look forward to meeting any and all previous participants on December 16.
URL:https://pocketproject.org/event/embodied-connection-to-our-jewish-resilience-9/
CATEGORIES:Jewish Trauma Relief
ATTACH;FMTTYPE=image/png:https://pocketproject.org/wp-content/uploads/2024/10/mainCollage_jewish.png
END:VEVENT
END:VCALENDAR