BEGIN:VCALENDAR
VERSION:2.0
PRODID:-//The Pocket Project - ECPv6.3.7//NONSGML v1.0//EN
CALSCALE:GREGORIAN
METHOD:PUBLISH
X-WR-CALNAME:The Pocket Project
X-ORIGINAL-URL:https://pocketproject.org
X-WR-CALDESC:Events for The Pocket Project
REFRESH-INTERVAL;VALUE=DURATION:PT1H
X-Robots-Tag:noindex
X-PUBLISHED-TTL:PT1H
BEGIN:VTIMEZONE
TZID:Europe/Berlin
BEGIN:DAYLIGHT
TZOFFSETFROM:+0100
TZOFFSETTO:+0200
TZNAME:CEST
DTSTART:20250330T010000
END:DAYLIGHT
BEGIN:STANDARD
TZOFFSETFROM:+0200
TZOFFSETTO:+0100
TZNAME:CET
DTSTART:20251026T010000
END:STANDARD
END:VTIMEZONE
BEGIN:VEVENT
DTSTART;TZID=Europe/Berlin:20251126T200000
DTEND;TZID=Europe/Berlin:20251126T213000
DTSTAMP:20260419T112639
CREATED:20251105T130257Z
LAST-MODIFIED:20251105T130431Z
UID:67067-1764187200-1764192600@pocketproject.org
SUMMARY:Weaving the Next Chapter Together – Celebrating Our Journey & Announcing Our Three-Year Strategy
DESCRIPTION:As we close a remarkable year of healing\, learning\, and global connection\, we gather to celebrate what has grown through our shared field\, and to look ahead. In this special community call\, we will unveil the Pocket Project’s Three-Year Strategy\, a living framework to expand our global network through 1\,600+ trauma-informed practitioners and 500+ healing hubs or pockets; to deepen our Crisis Response Platform\, bridging global resources and local care networks; and to grow our Library of Transformation\, an immersive archive of personal and collective healing stories. \nTogether\, we will reflect on the movement that is growing through each of us\, a tapestry of presence\, compassion\, and systemic transformation\, and envision the next steps of our shared journey. \nIn this gathering\, we will explore: \n\nGrowing circles of healing – how local practitioners and hubs form the living architecture of a global culture of care.\nIntegrating trauma across systems – bringing trauma-informed approaches into education\, leadership\, and social change.\nActivating collective coherence – strengthening the relational field that connects and sustains our shared humanity.\n\nJoin us as we celebrate what has unfolded and co-shape the path ahead\, toward a world where trauma is met with care\, and restoration becomes our shared way forward. \n 
URL:https://pocketproject.org/event/weaving-the-next-chapter-together-celebrating-our-journey-announcing-our-three-year-strategy/
CATEGORIES:Community of Practice - Basic Skills,Featured
ATTACH;FMTTYPE=image/jpeg:https://pocketproject.org/wp-content/uploads/2025/07/Africa-Practice-Group-scaled.jpg
END:VEVENT
END:VCALENDAR