BEGIN:VCALENDAR
VERSION:2.0
PRODID:-//The Pocket Project - ECPv6.3.7//NONSGML v1.0//EN
CALSCALE:GREGORIAN
METHOD:PUBLISH
X-WR-CALNAME:The Pocket Project
X-ORIGINAL-URL:https://pocketproject.org
X-WR-CALDESC:Events for The Pocket Project
REFRESH-INTERVAL;VALUE=DURATION:PT1H
X-Robots-Tag:noindex
X-PUBLISHED-TTL:PT1H
BEGIN:VTIMEZONE
TZID:Europe/Berlin
BEGIN:DAYLIGHT
TZOFFSETFROM:+0100
TZOFFSETTO:+0200
TZNAME:CEST
DTSTART:20210328T010000
END:DAYLIGHT
BEGIN:STANDARD
TZOFFSETFROM:+0200
TZOFFSETTO:+0100
TZNAME:CET
DTSTART:20211031T010000
END:STANDARD
BEGIN:DAYLIGHT
TZOFFSETFROM:+0100
TZOFFSETTO:+0200
TZNAME:CEST
DTSTART:20220327T010000
END:DAYLIGHT
BEGIN:STANDARD
TZOFFSETFROM:+0200
TZOFFSETTO:+0100
TZNAME:CET
DTSTART:20221030T010000
END:STANDARD
END:VTIMEZONE
BEGIN:VEVENT
DTSTART;TZID=Europe/Berlin:20220124T200000
DTEND;TZID=Europe/Berlin:20220124T213000
DTSTAMP:20260422T111348
CREATED:20250630T152539Z
LAST-MODIFIED:20250630T152539Z
UID:61880-1643054400-1643059800@pocketproject.org
SUMMARY:Philippines Super Typhoon Rai – From Climate Ambition to Climate Vulnerability
DESCRIPTION:On December 16\, 2021\, Supertyphoon Rai (local name Odette) escalated to a category 5 storm as it entered the Philippines. More than six million people woke up to massive devastation\, among them almost 400 dead\, 600\,000 displaced\,  and 712\,000 with their homes damaged and their landscapes ravaged. This scale of devastation and the corresponding shock will take years to recover from. How do individuals heal when a future of more climate emergencies is predicted for this climate-vulnerable region? How can our community presence the grief of recurrent loss?
URL:https://pocketproject.org/event/philippines-super-typhoon-rai-from-climate-ambition-to-climate-vulnerability/
CATEGORIES:Global Social Witnessing
ATTACH;FMTTYPE=image/jpeg:https://pocketproject.org/wp-content/uploads/2022/02/Typhoon-Philippines-1-2.jpeg
ORGANIZER;CN="Kosha Joubert":MAILTO:kosha.joubert@pocketproject.org
END:VEVENT
BEGIN:VEVENT
DTSTART;TZID=Europe/Berlin:20210913T200000
DTEND;TZID=Europe/Berlin:20210913T213000
DTSTAMP:20260422T111348
CREATED:20250630T153212Z
LAST-MODIFIED:20250630T154318Z
UID:61885-1631563200-1631568600@pocketproject.org
SUMMARY:Accompanying Spozhmay O. on her Journey to Safety (September 13th & 27th)
DESCRIPTION:Spozhmay worked with the Pocket Project to bring knowledge about collective trauma to Afghanistan. With the change of power in Kabul\, she had to flee the country\, for her safety\, but also to continue to follow her dreams of healing for Afghanistan. \nThe Pocket Project supports Spozhmay to complete her PhD on Healing Collective Trauma in Canada. \nRead More
URL:https://pocketproject.org/event/accompanying-spozhmay-o-on-her-journey-to-safety-september-13th-27th/
CATEGORIES:Global Social Witnessing
ATTACH;FMTTYPE=image/jpeg:https://pocketproject.org/wp-content/uploads/2021/11/shutterstock_1681439548.jpg
END:VEVENT
END:VCALENDAR