BEGIN:VCALENDAR
VERSION:2.0
PRODID:-//The Pocket Project - ECPv6.3.7//NONSGML v1.0//EN
CALSCALE:GREGORIAN
METHOD:PUBLISH
X-ORIGINAL-URL:https://pocketproject.org
X-WR-CALDESC:Events for The Pocket Project
REFRESH-INTERVAL;VALUE=DURATION:PT1H
X-Robots-Tag:noindex
X-PUBLISHED-TTL:PT1H
BEGIN:VTIMEZONE
TZID:Europe/Berlin
BEGIN:DAYLIGHT
TZOFFSETFROM:+0100
TZOFFSETTO:+0200
TZNAME:CEST
DTSTART:20230326T010000
END:DAYLIGHT
BEGIN:STANDARD
TZOFFSETFROM:+0200
TZOFFSETTO:+0100
TZNAME:CET
DTSTART:20231029T010000
END:STANDARD
END:VTIMEZONE
BEGIN:VEVENT
DTSTART;TZID=Europe/Berlin:20230116T200000
DTEND;TZID=Europe/Berlin:20230116T213000
DTSTAMP:20260421T180551
CREATED:20221222T200232Z
LAST-MODIFIED:20221222T200838Z
UID:27704-1673899200-1673904600@pocketproject.org
SUMMARY:Community of Practice
DESCRIPTION:
URL:https://pocketproject.org/event/community-of-practice-7/
ATTACH;FMTTYPE=image/png:https://pocketproject.org/wp-content/uploads/2022/11/8.png
ORGANIZER;CN="Kosha Joubert":MAILTO:kosha.joubert@pocketproject.org
END:VEVENT
BEGIN:VEVENT
DTSTART;TZID=Europe/Berlin:20230123T180000
DTEND;TZID=Europe/Berlin:20230123T193000
DTSTAMP:20260421T180551
CREATED:20230120T144758Z
LAST-MODIFIED:20230120T153724Z
UID:28070-1674496800-1674502200@pocketproject.org
SUMMARY:Майстерня розвитку самопідтримки
DESCRIPTION:Заходи направлені на стабілізацію психоемоційного стану жінок\, постраждалих внаслідок військових дій на території України. Мета: навчити навичок самодопомоги в стресовій ситуації. Центральним завданням є встановлення безпечної атмосфери. Український час – 19:00-20:30.
URL:https://pocketproject.org/event/%d0%bc%d0%b0%d0%b9%d1%81%d1%82%d0%b5%d1%80%d0%bd%d1%8f-%d1%80%d0%be%d0%b7%d0%b2%d0%b8%d1%82%d0%ba%d1%83-%d1%81%d0%b0%d0%bc%d0%be%d0%bf%d1%96%d0%b4%d1%82%d1%80%d0%b8%d0%bc%d0%ba%d0%b8/
LOCATION:Online – Zoom\, Some address\, online - zoom
ATTACH;FMTTYPE=image/png:https://pocketproject.org/wp-content/uploads/2022/11/9.png
END:VEVENT
BEGIN:VEVENT
DTSTART;TZID=Europe/Berlin:20230130T180000
DTEND;TZID=Europe/Berlin:20230130T193000
DTSTAMP:20260421T180551
CREATED:20230127T125557Z
LAST-MODIFIED:20230127T134106Z
UID:28478-1675101600-1675107000@pocketproject.org
SUMMARY:Особисті кордони
DESCRIPTION:Ситуація війни дуже вплинула на відчуття особистих кордонів. Це і загальне відчуття\, що кордони нашої держави були порушені\, і особистe. Український час – 19:00-20:30. \nНа цій зустрічі ми приділимо увагу трьом аспектам особистих кордонів:\n1. Відчуття тілесних кордонів.\n2. Розуміння стану власних кордонів за допомогою арт-терапевтичної техніки.\n3. Усвідомлення кордонів у взаємозв’язках через техніку “Тиск ролей”.
URL:https://pocketproject.org/event/%d0%be%d1%81%d0%be%d0%b1%d0%b8%d1%81%d1%82%d1%96-%d0%ba%d0%be%d1%80%d0%b4%d0%be%d0%bd%d0%b8-2/
LOCATION:Online – Zoom\, Some address\, online - zoom
ATTACH;FMTTYPE=image/png:https://pocketproject.org/wp-content/uploads/2022/11/4.png
END:VEVENT
BEGIN:VEVENT
DTSTART;TZID=Europe/Berlin:20230130T200000
DTEND;TZID=Europe/Berlin:20230130T213000
DTSTAMP:20260421T180551
CREATED:20221222T195930Z
LAST-MODIFIED:20250630T132835Z
UID:27698-1675108800-1675114200@pocketproject.org
SUMMARY:Women\, Life & Freedom – A New Vision for the Future of Iran
DESCRIPTION:In response to the acute situation in Iran\, and to requests from our community\, and most especially\, many members of the Iranian diaspora\, we held a space\, offering care to the situation in Iran where courage called and is calling citizens to stand up for women\, life\, and freedom.
URL:https://pocketproject.org/event/global-social-witnessing-4/
CATEGORIES:Global Social Witnessing
ATTACH;FMTTYPE=image/png:https://pocketproject.org/wp-content/uploads/2023/01/pasted-image-0.png
END:VEVENT
END:VCALENDAR