BEGIN:VCALENDAR
VERSION:2.0
PRODID:-//The Pocket Project - ECPv6.3.7//NONSGML v1.0//EN
CALSCALE:GREGORIAN
METHOD:PUBLISH
X-ORIGINAL-URL:https://pocketproject.org
X-WR-CALDESC:Events for The Pocket Project
REFRESH-INTERVAL;VALUE=DURATION:PT1H
X-Robots-Tag:noindex
X-PUBLISHED-TTL:PT1H
BEGIN:VTIMEZONE
TZID:Europe/Berlin
BEGIN:DAYLIGHT
TZOFFSETFROM:+0100
TZOFFSETTO:+0200
TZNAME:CEST
DTSTART:20250330T010000
END:DAYLIGHT
BEGIN:STANDARD
TZOFFSETFROM:+0200
TZOFFSETTO:+0100
TZNAME:CET
DTSTART:20251026T010000
END:STANDARD
TZID:America/New_York
BEGIN:DAYLIGHT
TZOFFSETFROM:-0500
TZOFFSETTO:-0400
TZNAME:EDT
DTSTART:20250309T070000
END:DAYLIGHT
BEGIN:STANDARD
TZOFFSETFROM:-0400
TZOFFSETTO:-0500
TZNAME:EST
DTSTART:20251102T060000
END:STANDARD
END:VTIMEZONE
BEGIN:VEVENT
DTSTART;TZID=Europe/Berlin:20250506T190000
DTEND;TZID=Europe/Berlin:20250506T203000
DTSTAMP:20260418T123632
CREATED:20250402T181240Z
LAST-MODIFIED:20250418T120231Z
UID:58205-1746558000-1746563400@pocketproject.org
SUMMARY:Being Overlooked as a Palestinian in Diaspora
DESCRIPTION:The group call aims to create a safe and supportive space to share experiences and support being gaslighted or feeling that your pain is overlooked/gaslighted in work and life environments. \nYou find yourself in a strange reality at work – feeling emotionally and physically exhausted\, demotivated\, and sleepless\, but unable to share what is present for you during a team meeting check-in or a side conversation with a colleague. Our inner world is in turmoil\, while we grapple with nightmares and the weight of what we have seen\, yet we navigate institutions and communities that seem oblivious to the reality we live in. These institutions\, to which we have given our time and energy\, continue with “business as usual\,” while two million people trapped in a cage are being mass murdered with either the complicity or active participation of their governments. And you are asked to play pretend as well and go with “business as usual.” \nHow are we managing this immense challenge? How do we confront the hypocrisy of this moment? Is it possible to maintain authentic connections when our deepest emotions and our fundamental sense of reality are neither acknowledged nor welcomed? How do we deal with the hurt that we carry and the sense of betrayal by friends\, colleagues\, and institutions? \nWe do not offer easy solutions or definitive answers. Instead\, we offer a temporary digital space where we can be seen and heard by each other and recognize the profound pain we are experiencing. We provide a space for sharing our collective experiences and the lessons we have learned so far. \nWho is Invited: This session is specifically for Palestinians in the diaspora who are navigating this complex reality\, whether within their workplaces\, institutions\, or informal social structures. We also warmly welcome other affected individuals and allies who have experienced similar challenges.
URL:https://pocketproject.org/event/being-overlooked-as-a-palestinian-in-diaspora/
CATEGORIES:Palestine Trauma Relief
ATTACH;FMTTYPE=image/png:https://pocketproject.org/wp-content/uploads/2025/02/texture2-1.png
END:VEVENT
BEGIN:VEVENT
DTSTART;TZID=America/New_York:20250506T190000
DTEND;TZID=America/New_York:20250506T204500
DTSTAMP:20260418T123632
CREATED:20250407T171843Z
LAST-MODIFIED:20250410T085127Z
UID:58398-1746558000-1746564300@pocketproject.org
SUMMARY:Embodied Connection to our Jewish Resilience
DESCRIPTION:Fostering a Felt Sense of Safety in our Jewish Belonging – For anyone who identifies as Jewish \nThis monthly gathering offers a warm and supportive space for those with Jewish ancestry to explore resilience\, belonging\, and the integration of individual\, ancestral\, and collective experiences. Together\, we reflect on personal and historical trauma\, the challenges of the present\, and the strength within our Jewish identity. By cultivating safety and connection\, we support our individual and collective capacity to process\, integrate\, and deepen our sense of Jewish belonging. \n 
URL:https://pocketproject.org/event/embodied-connection-to-our-jewish-resilience-3/
CATEGORIES:Jewish Trauma Relief
ATTACH;FMTTYPE=image/png:https://pocketproject.org/wp-content/uploads/2024/10/mainCollage_jewish.png
END:VEVENT
BEGIN:VEVENT
DTSTART;TZID=Europe/Berlin:20250512T200000
DTEND;TZID=Europe/Berlin:20250512T213000
DTSTAMP:20260418T123632
CREATED:20250428T135159Z
LAST-MODIFIED:20250609T090016Z
UID:59848-1747080000-1747085400@pocketproject.org
SUMMARY:Finding Our Agency: Strengthening Our Courage Amid Uncertainty
DESCRIPTION:Across the United States—and throughout the world—many are navigating a deepening sense of uncertainty. Shifts in social\, environmental\, and political landscapes are raising important questions about belonging\, safety\, and the future we are collectively shaping. In times of turbulence\, it is natural for feelings of fear and stress to arise. \nThis Global Social Witnessing call invites us to turn toward these experiences—not in retreat\, but with courageous presence\, inner resourcefulness\, and a spirit of collective care. Together\, we will explore how moments of instability can become opportunities for strengthening resilience\, reconnecting to our innate agency\, and stepping forward with thoughtful action. \nRather than judging or dividing\, we gather to witness what is unfolding within and around us—and to activate the compassionate and unique leadership that lives within every one of us. \n  \nDuring this session\, we will:\n🌿 Create a space where experiences of fear and stress can be witnessed\, grounded\, and metabolized in community\n 🌿 Provide collective resourcing and support to deepen individual and shared resilience\n 🌿 Reconnect to a sense of personal and collective agency—exploring how compassionate presence can inspire thoughtful\, courageous engagement with the world \nOur focus will be:\n\nHow can we strengthen our capacity to stay related and grounded amid uncertainty and complexity?\n\nHow can collective witnessing transform stress into resilience\, and withdrawal into awake\, empowered presence?\n\nHow can compassion\, rooted in the uniqueness of our presence\, guide us to take responsive and courageous action in service of the whole?\n\n 
URL:https://pocketproject.org/event/finding-our-agency-strengthening-our-courage-amid-uncertainty/
CATEGORIES:Featured,Global Social Witnessing
ATTACH;FMTTYPE=image/png:https://pocketproject.org/wp-content/uploads/2025/04/Screen-Shot-2025-04-28-at-16.13.27.png
ORGANIZER;CN="Kosha Joubert":MAILTO:kosha.joubert@pocketproject.org
END:VEVENT
BEGIN:VEVENT
DTSTART;TZID=Europe/Berlin:20250513T170000
DTEND;TZID=Europe/Berlin:20250513T184500
DTSTAMP:20260418T123632
CREATED:20250414T091442Z
LAST-MODIFIED:20250416T093620Z
UID:58640-1747155600-1747161900@pocketproject.org
SUMMARY:Coming Home to Being Jewish
DESCRIPTION:Creating a warm and safe space for the presencing and integration of the individual\, ancestral and collective trauma and resilience of being Jewish. \nWe will meet monthly with people who identify as having Jewish ancestry\, to explore aspects of our Jewish experience including: the presencing of our individual\, ancestral and collective trauma; the challenges of the current situation in the Middle East; aspects of both Jewish persecution and perpetration; internalised anti-semitism and whatever themes and experiences group participants bring to the call. \nOur intention is to create a warm\, welcoming and safe space in which such topics and experiences can be felt\, held within a field of group coherence and resonance\, and in this way to support our individual and collective capacity to reflect\, digest and integrate what arises. \n 
URL:https://pocketproject.org/event/coming-home-to-being-jewish-4/
CATEGORIES:Jewish Trauma Relief
ATTACH;FMTTYPE=image/png:https://pocketproject.org/wp-content/uploads/2025/02/Screen-Shot-2025-02-04-at-11.49.05-AM-1.png
END:VEVENT
BEGIN:VEVENT
DTSTART;TZID=Europe/Berlin:20250515T184500
DTEND;TZID=Europe/Berlin:20250515T211500
DTSTAMP:20260418T123632
CREATED:20250506T144121Z
LAST-MODIFIED:20250609T104524Z
UID:60267-1747334700-1747343700@pocketproject.org
SUMMARY:The Joint Nakba Remembrance Ceremony
DESCRIPTION:Hand-in-hand with the Pocket Project Trauma Relief Project \nIf you joined the 2025 Israeli-Palestinian 20th Joint Memorial Ceremony on the 29th of April\, you already know the power of bearing witness in community. Now\, on May 15th\, we invite you to join its sister event\, the Joint Nakba Remembrance Ceremony\, organised by Combatants for Peace and shared with you through the Pocket Project. This annual event continues the work of shared mourning\, deep listening\, and steadfast hope for a different future. \nThis year’s theme\, “Holding onto Home\, Holding onto Hope\,” speaks powerfully to this moment in history. The ceremony reflects on the enduring cycle of displacement and loss that Palestinians have experienced since 1948. And yet\, it also looks ahead. It affirms a vision of peace rooted in justice and dignity—a future in which Palestinians are not defined by displacement\, but by their right to live freely and securely. \nHolding onto home is about more than geography. It is a commitment to reconciliation—not only for individuals\, but for the land itself. It is a call to weave peace into the shared identity of all who call this place home. We are witnessing a crisis of humanity—and we must refuse to look away. Our hearts are large enough to hold all who are suffering. We stand with life\, believing that every child deserve. \nJoin us at the Pocket Project in solidarity to bear witness and refuse to accept that war is our destiny. We will meet at 18:45 CET / 12:45pm EST / 9:45am PST to arrive together\, watch the ceremony in community and have some space afterwards to hear voices. Let’s witness together\, rather than alone.
URL:https://pocketproject.org/event/the-joint-nakba-remembrance-ceremony/
CATEGORIES:Featured,Global Social Witnessing,Palestine Trauma Relief
ATTACH;FMTTYPE=image/png:https://pocketproject.org/wp-content/uploads/2025/04/April-29.png
END:VEVENT
BEGIN:VEVENT
DTSTART;TZID=Europe/Berlin:20250525T200000
DTEND;TZID=Europe/Berlin:20250525T220000
DTSTAMP:20260418T123632
CREATED:20250425T155247Z
LAST-MODIFIED:20250512T052244Z
UID:59759-1748203200-1748210400@pocketproject.org
SUMMARY:A Journey into Jewish Identity
DESCRIPTION:A 4-Session Journey into Jewish Identity – Exploring through the Dance of the Universal and the Specific \nFor anyone who identifies as Jewish \nThis series will begin with four sessions which we will build progressively\, each one deepening the exploration of Jewishness by engaging with the dynamic interplay between the universal and the specific.\nAlong the way\, we’ll also touch on the role of personal and collective triggers as doorways into this inquiry.\nThis is an open group\, and new participants are welcome to join at any point.\nAt the same time\, we warmly encourage you to join us for the full 4-session journey\, as each meeting builds upon the last. \nAll dates are on Sunday 25th May| 22nd June | 13th July
URL:https://pocketproject.org/event/a-journey-into-jewish-identity-2/
CATEGORIES:Jewish Trauma Relief
ATTACH;FMTTYPE=image/jpeg:https://pocketproject.org/wp-content/uploads/2025/03/Collective-Trauma-Integration-Jewish.jpeg
END:VEVENT
END:VCALENDAR