BEGIN:VCALENDAR
VERSION:2.0
PRODID:-//The Pocket Project - ECPv6.3.7//NONSGML v1.0//EN
CALSCALE:GREGORIAN
METHOD:PUBLISH
X-WR-CALNAME:The Pocket Project
X-ORIGINAL-URL:https://pocketproject.org
X-WR-CALDESC:Events for The Pocket Project
REFRESH-INTERVAL;VALUE=DURATION:PT1H
X-Robots-Tag:noindex
X-PUBLISHED-TTL:PT1H
BEGIN:VTIMEZONE
TZID:Europe/Berlin
BEGIN:DAYLIGHT
TZOFFSETFROM:+0100
TZOFFSETTO:+0200
TZNAME:CEST
DTSTART:20250330T010000
END:DAYLIGHT
BEGIN:STANDARD
TZOFFSETFROM:+0200
TZOFFSETTO:+0100
TZNAME:CET
DTSTART:20251026T010000
END:STANDARD
TZID:America/New_York
BEGIN:DAYLIGHT
TZOFFSETFROM:-0500
TZOFFSETTO:-0400
TZNAME:EDT
DTSTART:20250309T070000
END:DAYLIGHT
BEGIN:STANDARD
TZOFFSETFROM:-0400
TZOFFSETTO:-0500
TZNAME:EST
DTSTART:20251102T060000
END:STANDARD
END:VTIMEZONE
BEGIN:VEVENT
DTSTART;TZID=Europe/Berlin:20250707T200000
DTEND;TZID=Europe/Berlin:20250707T213000
DTSTAMP:20260417T134359
CREATED:20250630T172310Z
LAST-MODIFIED:20250630T182222Z
UID:61904-1751918400-1751923800@pocketproject.org
SUMMARY:Witnessing Despair – Between Fear\, Grief and Heartbreak in Palestine and Israel
DESCRIPTION:We invite you to gather in heartbreak—and in an act of courage\, choosing to practice relating to all sides at a time when tension\, polarization and fragmentation continues to rise. \nAs the devastation and terror in Gaza continues and the humanitarian crisis deepens\, with children dying daily of hunger\, medical infrastructure collapsing and the consequences of over 55\,000 killed\,  as raids escalate in the West Bank\, and as people in Israel grapple with existential fear following the horror of the 7th of October 2023\, the continuing detention of hostages and the 12-day war with Iran\, you are invited to bring your presence to a space of grounding and witnessing. \nThis Global Social Witnessing call is not a space for political debate. It is a space for presence. A space to feel—together—the grief\, the horror\, the numbness\, the tenderness. A space to witness the pain of lives lost\, the disintegration of trust\, and the fragile flickers of human connection that still remain. \nWe will be joined by Rana Salman and Eszter Koranyi\, the Palestinian and Israeli Co-Directors of Combatants for Peace—a binational movement of former soldiers and combatants who now walk a path of nonviolence\, dialogue\, and a shared search for liberation. Their leadership offers us a model of what is possible when we give ourselves to a relational practice in the face of rupture. \nTogether\, we will turn toward this moment with our bodies\, our breath\, and our not-knowing. Bearing witness to heartbreak is not passive. It is a subtle act of care\, a weaving of the torn fabric of our shared humanity.\nLet us meet—across time zones\, identities\, and experiences—to hold this pain and love\, side by side.
URL:https://pocketproject.org/event/witnessing-despair-between-fear-grief-and-heartbreak-in-palestine-and-israel/
CATEGORIES:Featured,Global Social Witnessing
ATTACH;FMTTYPE=image/png:https://pocketproject.org/wp-content/uploads/2025/04/April-29.png
END:VEVENT
BEGIN:VEVENT
DTSTART;TZID=Europe/Berlin:20250710T170000
DTEND;TZID=Europe/Berlin:20250710T184500
DTSTAMP:20260417T134359
CREATED:20250612T104638Z
LAST-MODIFIED:20250707T160001Z
UID:61365-1752166800-1752173100@pocketproject.org
SUMMARY:Coming Home to Being Jewish
DESCRIPTION:Creating a warm and safe space for the presencing and integration of the individual\, ancestral and collective trauma and resilience of being Jewish. \nWe will meet monthly with people who identify as having Jewish ancestry\, to explore aspects of our Jewish experience including: the presencing of our individual\, ancestral and collective trauma; the challenges of the current situation in the Middle East; aspects of both Jewish persecution and perpetration; internalised anti-semitism and whatever themes and experiences group participants bring to the call. \nOur intention is to create a warm\, welcoming and safe space in which such topics and experiences can be felt\, held within a field of group coherence and resonance\, and in this way to support our individual and collective capacity to reflect\, digest and integrate what arises. \n 
URL:https://pocketproject.org/event/coming-home-to-being-jewish-6/
CATEGORIES:Jewish Trauma Relief
ATTACH;FMTTYPE=image/png:https://pocketproject.org/wp-content/uploads/2025/02/Screen-Shot-2025-02-04-at-11.49.05-AM-1.png
END:VEVENT
BEGIN:VEVENT
DTSTART;TZID=America/New_York:20250715T190000
DTEND;TZID=America/New_York:20250715T204500
DTSTAMP:20260417T134359
CREATED:20250604T090619Z
LAST-MODIFIED:20250604T090619Z
UID:61023-1752606000-1752612300@pocketproject.org
SUMMARY:Embodied Connection to our Jewish Resilience
DESCRIPTION:Fostering a Felt Sense of Safety in our Jewish Belonging – For anyone who identifies as Jewish \nThis monthly gathering offers a warm and supportive space for those with Jewish ancestry to explore resilience\, belonging\, and the integration of individual\, ancestral\, and collective experiences. Together\, we reflect on personal and historical trauma\, the challenges of the present\, and the strength within our Jewish identity. By cultivating safety and connection\, we support our individual and collective capacity to process\, integrate\, and deepen our sense of Jewish belonging. \n 
URL:https://pocketproject.org/event/embodied-connection-to-our-jewish-resilience-5/
CATEGORIES:Jewish Trauma Relief
ATTACH;FMTTYPE=image/png:https://pocketproject.org/wp-content/uploads/2024/10/mainCollage_jewish.png
END:VEVENT
BEGIN:VEVENT
DTSTART;TZID=Europe/Berlin:20250720T200000
DTEND;TZID=Europe/Berlin:20250720T220000
DTSTAMP:20260417T134359
CREATED:20250701T101229Z
LAST-MODIFIED:20250703T050104Z
UID:61955-1753041600-1753048800@pocketproject.org
SUMMARY:A Journey into Jewish Identity
DESCRIPTION:For anyone who identifies as Jewish. This series will begin with four sessions which we will build progressively\, each one deepening the exploration of Jewishness by engaging with the dynamic interplay between the universal and the specific. Along the way\, we’ll also touch on the role of personal and collective triggers as doorways into this inquiry. This is an open group\, and new participants are welcome to join at any point. 
URL:https://pocketproject.org/event/a-journey-into-jewish-identity-4/
CATEGORIES:Jewish Trauma Relief
ATTACH;FMTTYPE=image/jpeg:https://pocketproject.org/wp-content/uploads/2025/03/Collective-Trauma-Integration-Jewish.jpeg
END:VEVENT
BEGIN:VEVENT
DTSTART;TZID=Europe/Berlin:20250723T200000
DTEND;TZID=Europe/Berlin:20250723T213000
DTSTAMP:20260417T134359
CREATED:20250706T025749Z
LAST-MODIFIED:20250716T171815Z
UID:62088-1753300800-1753306200@pocketproject.org
SUMMARY:Dancing with Intensity – Tracking Our Patterns of Connection and Disconnection
DESCRIPTION:In a world saturated with informational intensity\, we often find ourselves connecting and disconnecting – not only to the flow of news\, but also to ourselves\, others\, and life – without even noticing. These subtle shifts shape our relationships and our collective capacity to sense and respond with care. \nIn this Community Call\, Markus Hirzig will invite us into a deeper inquiry: What happens when we become aware of our habits and rhythms of presencing and absencing? How can we witness and bring more awareness to our movement toward or away from intensity and relatedness? As Thomas Hübl often says: ‘With consciousness comes choice’.  \nThrough embodied reflection\, guided practice\, and shared space\, we will explore how regulating our engagement with information and stimuli becomes a doorway into inner leadership – one that fosters presence\, connection\, and clarity in the midst of complexity. \nThis call is an opportunity to gently observe your patterns\, resource yourself\, and strengthen your capacity to meet life with curiosity and groundedness. \nYou will learn to: \n\nBring awareness to your personal patterns of connecting and disconnecting from information and experience.\nRecognise the signs of presencing and absencing in yourself and others\, and how they affect your inner regulation.\nPractice mindful tools to consciously regulate your nervous system and re-enter coherence when intensity arises.\n\nThis call is open to everyone and offered as a gift from the Pocket Project. No prior experience is necessary.
URL:https://pocketproject.org/event/dancing-with-intensity-tracking-our-patterns-of-connection-and-disconnection/
CATEGORIES:Community of Practice - Basic Skills,Featured
ATTACH;FMTTYPE=image/jpeg:https://pocketproject.org/wp-content/uploads/2022/12/shutterstock_1496997035-scaled.jpg
END:VEVENT
END:VCALENDAR