BEGIN:VCALENDAR
VERSION:2.0
PRODID:-//The Pocket Project - ECPv6.3.7//NONSGML v1.0//EN
CALSCALE:GREGORIAN
METHOD:PUBLISH
X-ORIGINAL-URL:https://pocketproject.org
X-WR-CALDESC:Events for The Pocket Project
REFRESH-INTERVAL;VALUE=DURATION:PT1H
X-Robots-Tag:noindex
X-PUBLISHED-TTL:PT1H
BEGIN:VTIMEZONE
TZID:Europe/Berlin
BEGIN:DAYLIGHT
TZOFFSETFROM:+0100
TZOFFSETTO:+0200
TZNAME:CEST
DTSTART:20220327T010000
END:DAYLIGHT
BEGIN:STANDARD
TZOFFSETFROM:+0200
TZOFFSETTO:+0100
TZNAME:CET
DTSTART:20221030T010000
END:STANDARD
END:VTIMEZONE
BEGIN:VEVENT
DTSTART;TZID=Europe/Berlin:20220627T200000
DTEND;TZID=Europe/Berlin:20220627T213000
DTSTAMP:20260424T224649
CREATED:20250630T140505Z
LAST-MODIFIED:20250630T140505Z
UID:61856-1656360000-1656365400@pocketproject.org
SUMMARY:Footprints of Colonialism – Looted Artefacts
DESCRIPTION:Currently\, over 95% of African artefacts are in ownership of private collections and world museums\, waiting to find their way home. We sensed into the story this tells us about the European and African past. And explored how these artefacts continue to shape today’s postcolonial society.
URL:https://pocketproject.org/event/footprints-of-colonialism-looted-artefacts/
CATEGORIES:Global Social Witnessing
ATTACH;FMTTYPE=image/jpeg:https://pocketproject.org/wp-content/uploads/2022/06/shutterstock_1520662883.jpg
ORGANIZER;CN="Kosha Joubert":MAILTO:kosha.joubert@pocketproject.org
END:VEVENT
END:VCALENDAR